BEGIN:VCALENDAR
VERSION:2.0
PRODID:-//Affiliate Southern California - ECPv6.15.20//NONSGML v1.0//EN
CALSCALE:GREGORIAN
METHOD:PUBLISH
X-ORIGINAL-URL:https://madd.org/southern-california
X-WR-CALDESC:Events for Affiliate Southern California
REFRESH-INTERVAL;VALUE=DURATION:PT1H
X-Robots-Tag:noindex
X-PUBLISHED-TTL:PT1H
BEGIN:VTIMEZONE
TZID:UTC
BEGIN:STANDARD
TZOFFSETFROM:+0000
TZOFFSETTO:+0000
TZNAME:UTC
DTSTART:20230101T000000
END:STANDARD
END:VTIMEZONE
BEGIN:VEVENT
DTSTART;TZID=UTC:20240913T070000
DTEND;TZID=UTC:20240913T120000
DTSTAMP:20260422T021348
CREATED:20240516T065609Z
LAST-MODIFIED:20240517T055401Z
UID:738-1726210800-1726228800@madd.org
SUMMARY:Walk Like MADD San Louis Obispo
DESCRIPTION:
URL:https://madd.org/southern-california/event/walk-like-madd-san-louis-obispo/
END:VEVENT
BEGIN:VEVENT
DTSTART;TZID=UTC:20240914T070000
DTEND;TZID=UTC:20240914T120000
DTSTAMP:20260422T021348
CREATED:20240516T065626Z
LAST-MODIFIED:20240517T055504Z
UID:739-1726297200-1726315200@madd.org
SUMMARY:Walk Like MADD\, Central Valley Fresno
DESCRIPTION: 
URL:https://madd.org/southern-california/event/walk-like-madd-fresno/
END:VEVENT
BEGIN:VEVENT
DTSTART;TZID=UTC:20240921T070000
DTEND;TZID=UTC:20240921T120000
DTSTAMP:20260422T021348
CREATED:20240517T043206Z
LAST-MODIFIED:20240517T055700Z
UID:743-1726902000-1726920000@madd.org
SUMMARY:Walk Like MADD Kern County\, Bakersfield
DESCRIPTION:
URL:https://madd.org/southern-california/event/walk-like-madd-kern-county-bakersfield/
CATEGORIES:Walk
END:VEVENT
BEGIN:VEVENT
DTSTART;TZID=UTC:20240928T070000
DTEND;TZID=UTC:20240928T120000
DTSTAMP:20260422T021348
CREATED:20240517T044223Z
LAST-MODIFIED:20240517T055741Z
UID:749-1727506800-1727524800@madd.org
SUMMARY:Walk Like MADD Southern California\, Long Beach
DESCRIPTION:
URL:https://madd.org/southern-california/event/walk-like-madd-southern-california-long-beach/
CATEGORIES:Walk
END:VEVENT
BEGIN:VEVENT
DTSTART;TZID=UTC:20240929T070000
DTEND;TZID=UTC:20240929T113000
DTSTAMP:20260422T021348
CREATED:20240517T044539Z
LAST-MODIFIED:20240606T001727Z
UID:752-1727593200-1727609400@madd.org
SUMMARY:Walk Like MADD Bay Area\, Walnut Creek
DESCRIPTION: 
URL:https://madd.org/southern-california/event/walk-like-madd-bay-area-walnut-creek/
CATEGORIES:Walk
END:VEVENT
END:VCALENDAR