BEGIN:VCALENDAR
VERSION:2.0
PRODID:-//Affiliate South Carolina - ECPv6.15.20//NONSGML v1.0//EN
CALSCALE:GREGORIAN
METHOD:PUBLISH
X-ORIGINAL-URL:https://madd.org/south-carolina
X-WR-CALDESC:Events for Affiliate South Carolina
REFRESH-INTERVAL;VALUE=DURATION:PT1H
X-Robots-Tag:noindex
X-PUBLISHED-TTL:PT1H
BEGIN:VTIMEZONE
TZID:UTC
BEGIN:STANDARD
TZOFFSETFROM:+0000
TZOFFSETTO:+0000
TZNAME:UTC
DTSTART:20230101T000000
END:STANDARD
END:VTIMEZONE
BEGIN:VEVENT
DTSTART;TZID=UTC:20240810T073000
DTEND;TZID=UTC:20240810T100000
DTSTAMP:20260422T132507
CREATED:20240521T173046Z
LAST-MODIFIED:20240521T180755Z
UID:1653-1723275000-1723284000@madd.org
SUMMARY:2024 MADD Rush 5K
DESCRIPTION:Join us on August 10th\, 2024 at the North Myrtle Beach Park and Sports Complex for MADD South Carolina’s first ever MADD Rush 5K. To register go to: \nhttps://runsignup.com/Race/SC/NorthMyrtleBeach/TheMADDRUSH5K \nWe run to create a future of No More Victims® \nThe 2024 MADD RUSH 5K event is MADD’s signature fundraising event to help us raise both awareness and funds to eliminate drunk and drugged driving. We hope that you will rally with us in North Myrtle Beach. SC to help create a future of No More Victims®.  Register and donate TODAY to help us save more lives! \nThe 2024 MADD RUSH 5K will be held on August 10\, 2024\, at North Myrtle Beach Athletic Park in NMB\, SC! All participants will receive a dri-fit shirt when registered by July 15\, 2024. This event is stroller and family friendly! \nTiming provided by Coastal Timing. \nFor any questions regarding this event\, please contact Chandler at Chandler.Boatwright@madd.org. \n 
URL:https://madd.org/south-carolina/event/2024-madd-rush-5k/
LOCATION:NORTH MYRTLE BEACH PARK AND SPORTS COMPLEX
END:VEVENT
END:VCALENDAR