BEGIN:VCALENDAR
VERSION:2.0
PRODID:-//Affiliate Missouri - ECPv6.15.20//NONSGML v1.0//EN
CALSCALE:GREGORIAN
METHOD:PUBLISH
X-ORIGINAL-URL:https://madd.org/missouri
X-WR-CALDESC:Events for Affiliate Missouri
REFRESH-INTERVAL;VALUE=DURATION:PT1H
X-Robots-Tag:noindex
X-PUBLISHED-TTL:PT1H
BEGIN:VTIMEZONE
TZID:UTC
BEGIN:STANDARD
TZOFFSETFROM:+0000
TZOFFSETTO:+0000
TZNAME:UTC
DTSTART:20230101T000000
END:STANDARD
END:VTIMEZONE
BEGIN:VEVENT
DTSTART;TZID=UTC:20241205T183000
DTEND;TZID=UTC:20241205T183000
DTSTAMP:20260425T003004
CREATED:20240415T184005Z
LAST-MODIFIED:20241107T160204Z
UID:1531-1733423400-1733423400@madd.org
SUMMARY:MADD Heartland Winter Gala
DESCRIPTION:Our MADD Heartland Winter Gala will culminate our year and honor law enforcement\, first responders\, and community partners.
URL:https://madd.org/missouri/event/madd-heartland-winter-gala/
LOCATION:Loose Mansion\, 101 E Armour Blvd\, Kansas City\, MO\, 64111\, United States
ORGANIZER;CN="Malarie Lindhorst":MAILTO:malarie.lindhorst@madd.org
END:VEVENT
END:VCALENDAR