BEGIN:VCALENDAR
VERSION:2.0
PRODID:-//Affiliate Georgia - ECPv6.15.20//NONSGML v1.0//EN
CALSCALE:GREGORIAN
METHOD:PUBLISH
X-WR-CALNAME:Affiliate Georgia
X-ORIGINAL-URL:https://madd.org/georgia
X-WR-CALDESC:Events for Affiliate Georgia
REFRESH-INTERVAL;VALUE=DURATION:PT1H
X-Robots-Tag:noindex
X-PUBLISHED-TTL:PT1H
BEGIN:VTIMEZONE
TZID:UTC
BEGIN:STANDARD
TZOFFSETFROM:+0000
TZOFFSETTO:+0000
TZNAME:UTC
DTSTART:20190101T000000
END:STANDARD
END:VTIMEZONE
BEGIN:VEVENT
DTSTART;TZID=UTC:20200620T090000
DTEND;TZID=UTC:20200620T120000
DTSTAMP:20260423T212119
CREATED:20200610T165818Z
LAST-MODIFIED:20200610T165818Z
UID:2093-1592643600-1592654400@madd.org
SUMMARY:Victim Impact Panel
DESCRIPTION:MADD Georgia will begin hosting in-person Victim Impact Panels. We will be taking all precautionary measures such as sanitizing\, providing gloves and masks\, and most importantly practicing  social distancing. The Victim Impact Panel will be held on Saturday\, June 20 at the Winder location. \nSPACE IS LIMITED!! Sign up today at www.maddvip.org \nSign in is at 9am\, class starts at 10am
URL:https://madd.org/georgia/event/victim-impact-panel-2/
LOCATION:Untitled
END:VEVENT
END:VCALENDAR