BEGIN:VCALENDAR
VERSION:2.0
PRODID:-//Affiliate Georgia - ECPv6.15.20//NONSGML v1.0//EN
CALSCALE:GREGORIAN
METHOD:PUBLISH
X-WR-CALNAME:Affiliate Georgia
X-ORIGINAL-URL:https://madd.org/georgia
X-WR-CALDESC:Events for Affiliate Georgia
REFRESH-INTERVAL;VALUE=DURATION:PT1H
X-Robots-Tag:noindex
X-PUBLISHED-TTL:PT1H
BEGIN:VTIMEZONE
TZID:UTC
BEGIN:STANDARD
TZOFFSETFROM:+0000
TZOFFSETTO:+0000
TZNAME:UTC
DTSTART:20170101T000000
END:STANDARD
END:VTIMEZONE
BEGIN:VEVENT
DTSTART;TZID=UTC:20180618T193000
DTEND;TZID=UTC:20180618T210000
DTSTAMP:20260424T200826
CREATED:20180614T184917Z
LAST-MODIFIED:20180614T184917Z
UID:1215-1529350200-1529355600@madd.org
SUMMARY:Support Group - Savannah
DESCRIPTION:7:30pm\nMemorial Medical University Hospital\nHeart and Vascular Building \n4700 Waters Ave\nSavannah\, GA 31404
URL:https://madd.org/georgia/event/support-group/
LOCATION:Untitled
ATTACH;FMTTYPE=:
END:VEVENT
END:VCALENDAR