BEGIN:VCALENDAR
VERSION:2.0
PRODID:-//Affiliate Georgia - ECPv6.15.20//NONSGML v1.0//EN
CALSCALE:GREGORIAN
METHOD:PUBLISH
X-WR-CALNAME:Affiliate Georgia
X-ORIGINAL-URL:https://madd.org/georgia
X-WR-CALDESC:Events for Affiliate Georgia
REFRESH-INTERVAL;VALUE=DURATION:PT1H
X-Robots-Tag:noindex
X-PUBLISHED-TTL:PT1H
BEGIN:VTIMEZONE
TZID:UTC
BEGIN:STANDARD
TZOFFSETFROM:+0000
TZOFFSETTO:+0000
TZNAME:UTC
DTSTART:20180101T000000
END:STANDARD
END:VTIMEZONE
BEGIN:VEVENT
DTSTART;TZID=UTC:20190305T100000
DTEND;TZID=UTC:20190422T170000
DTSTAMP:20260421T115407
CREATED:20190304T170949Z
LAST-MODIFIED:20190304T170949Z
UID:1621-1551780000-1555952400@madd.org
SUMMARY:MOD Pizza Honors Kennedy Segars
DESCRIPTION:  \nJoin MOD Pizza and Mothers Against Drunk Driving (MADD) at MOD Pizza’s Decatur location on Tuesday\, March 5 at 10:00am for a press conference and the unveiling of the Kennedy Pizza\, named after Kennedy Segars\, a college freshman and MOD Pizza team member\, whose life was tragically taken by a drunk driver in 2018. \nFrom March 5 – April 22\, $1 of every Kennedy pizza ordered at participating locations will be donated to MADD in remembrance of Kennedy’s life and in support of MADD’s mission. This promotion is valid at Georgia and Alabama MOD Pizza locations. \nMADD’s mission is to end drunk driving\, help fight drugged driving\, support the victims of these violent crimes and prevent underage drinking. Help is always available to victims and survivors through MADD’s 24-Hour Victim Helpline 877-MADD-HELP.
URL:https://madd.org/georgia/event/mod-pizza-honors-kennedy-segars/
LOCATION:Untitled
CATEGORIES:Community
END:VEVENT
END:VCALENDAR