BEGIN:VCALENDAR
VERSION:2.0
PRODID:-//Affiliate Georgia - ECPv6.15.20//NONSGML v1.0//EN
CALSCALE:GREGORIAN
METHOD:PUBLISH
X-WR-CALNAME:Affiliate Georgia
X-ORIGINAL-URL:https://madd.org/georgia
X-WR-CALDESC:Events for Affiliate Georgia
REFRESH-INTERVAL;VALUE=DURATION:PT1H
X-Robots-Tag:noindex
X-PUBLISHED-TTL:PT1H
BEGIN:VTIMEZONE
TZID:UTC
BEGIN:STANDARD
TZOFFSETFROM:+0000
TZOFFSETTO:+0000
TZNAME:UTC
DTSTART:20160101T000000
END:STANDARD
END:VTIMEZONE
BEGIN:VEVENT
DTSTART;TZID=UTC:20170913T080000
DTEND;TZID=UTC:20170913T170000
DTSTAMP:20260421T120053
CREATED:20170827T024939Z
LAST-MODIFIED:20170827T024939Z
UID:275-1505289600-1505322000@madd.org
SUMMARY:Atlanta United FC vs New England Revolution
DESCRIPTION:ATLANTA UNITED FC DESIGNATED DRIVER PROGRAM\nSeptember 13\, 2017\nAtlanta\, GA\n1 Northside Dr NW\, Atlanta\, GA 30314\nWE ARE ALL UNITED IN RESPONSIBILITY \nThe Atlanta United FC Designated Driver program booth at the new Mercedes-Benz Stadium. Come out and visit the Designated Driver booth! \nTo join our group\, and volunteer for MADD at the Designated Driver booth at the new Mercedes-Benz Stadium\, please email nicole.fote@madd.orgtoday. \n 
URL:https://madd.org/georgia/event/atlanta-united-fc-vs-new-england-revolution/
CATEGORIES:Community
END:VEVENT
END:VCALENDAR