BEGIN:VCALENDAR
VERSION:2.0
PRODID:-//Affiliate Colorado - ECPv6.15.20//NONSGML v1.0//EN
CALSCALE:GREGORIAN
METHOD:PUBLISH
X-ORIGINAL-URL:https://madd.org/colorado
X-WR-CALDESC:Events for Affiliate Colorado
REFRESH-INTERVAL;VALUE=DURATION:PT1H
X-Robots-Tag:noindex
X-PUBLISHED-TTL:PT1H
BEGIN:VTIMEZONE
TZID:UTC
BEGIN:STANDARD
TZOFFSETFROM:+0000
TZOFFSETTO:+0000
TZNAME:UTC
DTSTART:20250101T000000
END:STANDARD
END:VTIMEZONE
BEGIN:VEVENT
DTSTART;TZID=UTC:20260212T080000
DTEND;TZID=UTC:20260212T170000
DTSTAMP:20260421T101332
CREATED:20260212T005305Z
LAST-MODIFIED:20260212T005305Z
UID:844-1770883200-1770915600@madd.org
SUMMARY:Move with MADD Denver
DESCRIPTION:Move with MADD Denver\n8/1/2026\nSloan’s Lake\nClick for more information
URL:https://madd.org/colorado/event/move-with-madd-denver-2/
END:VEVENT
BEGIN:VEVENT
DTSTART;TZID=UTC:20260212T080000
DTEND;TZID=UTC:20260212T170000
DTSTAMP:20260421T101332
CREATED:20260212T005551Z
LAST-MODIFIED:20260212T005551Z
UID:845-1770883200-1770915600@madd.org
SUMMARY:Move with MADD Northern Colorado
DESCRIPTION:Move with MADD Northern Colorado\n8/15/2026\nWindsor Lake\nClick here for more information
URL:https://madd.org/colorado/event/move-with-madd-northern-colorado-2/
END:VEVENT
BEGIN:VEVENT
DTSTART;TZID=UTC:20260212T080000
DTEND;TZID=UTC:20260212T170000
DTSTAMP:20260421T101332
CREATED:20260212T005721Z
LAST-MODIFIED:20260212T005721Z
UID:846-1770883200-1770915600@madd.org
SUMMARY:Move with MADD Colorado Springs
DESCRIPTION:Move with MADD Colorado Springs\n8/22/2026\nClick here for more information
URL:https://madd.org/colorado/event/move-with-madd-colorado-springs-2/
END:VEVENT
BEGIN:VEVENT
DTSTART;TZID=UTC:20260212T080000
DTEND;TZID=UTC:20260212T170000
DTSTAMP:20260421T101332
CREATED:20260212T005904Z
LAST-MODIFIED:20260212T005904Z
UID:847-1770883200-1770915600@madd.org
SUMMARY:MADD Colorado's Candlelight Vigil
DESCRIPTION:MADD Colorado’s Candlelight Vigil Memorial Park\n11/14/2026\nClick for more information
URL:https://madd.org/colorado/event/madd-colorados-candlelight-vigil-2/
END:VEVENT
BEGIN:VEVENT
DTSTART;TZID=UTC:20260212T080000
DTEND;TZID=UTC:20260212T170000
DTSTAMP:20260421T101332
CREATED:20260212T010039Z
LAST-MODIFIED:20260212T010039Z
UID:848-1770883200-1770915600@madd.org
SUMMARY:MADD and CDOT Law Enforcement Champions
DESCRIPTION:MADD and CDOT Law Enforcement Champions\nMay\, 2026 – Dates to follow\nClick for more information
URL:https://madd.org/colorado/event/madd-and-cdot-law-enforcement-champions-2/
END:VEVENT
END:VCALENDAR